BEGIN:VCALENDAR
VERSION:2.0
PRODID:-//Gernzeit FSG Böblingen - ECPv6.15.20//NONSGML v1.0//EN
CALSCALE:GREGORIAN
METHOD:PUBLISH
X-WR-CALNAME:Gernzeit FSG Böblingen
X-ORIGINAL-URL:https://fsgbb.gernzeit.de
X-WR-CALDESC:Veranstaltungen für Gernzeit FSG Böblingen
REFRESH-INTERVAL;VALUE=DURATION:PT1H
X-Robots-Tag:noindex
X-PUBLISHED-TTL:PT1H
BEGIN:VTIMEZONE
TZID:UTC
BEGIN:STANDARD
TZOFFSETFROM:+0000
TZOFFSETTO:+0000
TZNAME:UTC
DTSTART:20250101T000000
END:STANDARD
END:VTIMEZONE
BEGIN:VEVENT
DTSTART;VALUE=DATE:20260601
DTEND;VALUE=DATE:20260606
DTSTAMP:20260421T140739
CREATED:20251106T161909Z
LAST-MODIFIED:20251106T162557Z
UID:1181-1780272000-1780703999@fsgbb.gernzeit.de
SUMMARY:Pfingstferien – geöffnet von 8.00 Uhr – 16.30 Uhr
DESCRIPTION:Pfingstferien :). Wir haben vom 01.06.2026 bis 05.06.2026 täglich von 8.00 Uhr – 16.30 Uhr für angemeldete Kinder geöffnet.
URL:https://fsgbb.gernzeit.de/event/pfingstferien-geoeffnet-von-8-00-uhr-16-30-uhr-2
CATEGORIES:Termine
END:VEVENT
END:VCALENDAR