BEGIN:VCALENDAR
VERSION:2.0
PRODID:-//Gernzeit FSG Böblingen - ECPv6.15.20//NONSGML v1.0//EN
CALSCALE:GREGORIAN
METHOD:PUBLISH
X-WR-CALNAME:Gernzeit FSG Böblingen
X-ORIGINAL-URL:https://fsgbb.gernzeit.de
X-WR-CALDESC:Veranstaltungen für Gernzeit FSG Böblingen
REFRESH-INTERVAL;VALUE=DURATION:PT1H
X-Robots-Tag:noindex
X-PUBLISHED-TTL:PT1H
BEGIN:VTIMEZONE
TZID:UTC
BEGIN:STANDARD
TZOFFSETFROM:+0000
TZOFFSETTO:+0000
TZNAME:UTC
DTSTART:20250101T000000
END:STANDARD
END:VTIMEZONE
BEGIN:VEVENT
DTSTART;VALUE=DATE:20260702
DTEND;VALUE=DATE:20260703
DTSTAMP:20260421T155329
CREATED:20251106T162037Z
LAST-MODIFIED:20251106T162037Z
UID:1183-1782950400-1783036799@fsgbb.gernzeit.de
SUMMARY:Ausgabe der Anmeldungen für die Sommerferien
DESCRIPTION:
URL:https://fsgbb.gernzeit.de/event/ausgabe-der-anmeldungen-fuer-die-sommerferien-2
CATEGORIES:Termine
END:VEVENT
BEGIN:VEVENT
DTSTART;VALUE=DATE:20260715
DTEND;VALUE=DATE:20260716
DTSTAMP:20260421T155329
CREATED:20251106T162144Z
LAST-MODIFIED:20251106T162144Z
UID:1185-1784073600-1784159999@fsgbb.gernzeit.de
SUMMARY:Anmeldeschluss Sommerferien
DESCRIPTION:
URL:https://fsgbb.gernzeit.de/event/anmeldeschluss-sommerferien-2
CATEGORIES:Termine
END:VEVENT
BEGIN:VEVENT
DTSTART;VALUE=DATE:20260730
DTEND;VALUE=DATE:20260801
DTSTAMP:20260421T155329
CREATED:20251106T162228Z
LAST-MODIFIED:20251106T162228Z
UID:1187-1785369600-1785542399@fsgbb.gernzeit.de
SUMMARY:Sommerferien – geöffnet von 8.00 Uhr – 16.30 Uhr
DESCRIPTION:Sommerferien :). Wir haben vom 30.07.2026 bis 31.07.2026 täglich von 8.00 Uhr – 16.30 Uhr für angemeldete Kinder geöffnet.
URL:https://fsgbb.gernzeit.de/event/sommerferien-geoeffnet-von-8-00-uhr-16-30-uhr-3
CATEGORIES:Termine
END:VEVENT
END:VCALENDAR