BEGIN:VCALENDAR
VERSION:2.0
PRODID:-//Gernzeit FSG Böblingen - ECPv6.15.20//NONSGML v1.0//EN
CALSCALE:GREGORIAN
METHOD:PUBLISH
X-ORIGINAL-URL:https://fsgbb.gernzeit.de
X-WR-CALDESC:Veranstaltungen für Gernzeit FSG Böblingen
REFRESH-INTERVAL;VALUE=DURATION:PT1H
X-Robots-Tag:noindex
X-PUBLISHED-TTL:PT1H
BEGIN:VTIMEZONE
TZID:UTC
BEGIN:STANDARD
TZOFFSETFROM:+0000
TZOFFSETTO:+0000
TZNAME:UTC
DTSTART:20250101T000000
END:STANDARD
END:VTIMEZONE
BEGIN:VEVENT
DTSTART;VALUE=DATE:20260803
DTEND;VALUE=DATE:20260829
DTSTAMP:20260423T083702
CREATED:20251106T162322Z
LAST-MODIFIED:20251106T162322Z
UID:1190-1785715200-1787961599@fsgbb.gernzeit.de
SUMMARY:Sommerferien – wir haben vom 03.08.2026 bis 28.08.2026 geschlossen
DESCRIPTION:Sommerferien :). Wir machen Urlaub vom 03.08.2026 bis 28.08.2026. Wir wünschen allen Kindern und Eltern tolle\, erholsame Sommerferien.
URL:https://fsgbb.gernzeit.de/event/sommerferien-wir-haben-vom-03-08-2026-bis-28-08-2026-geschlossen
CATEGORIES:Termine
END:VEVENT
BEGIN:VEVENT
DTSTART;VALUE=DATE:20260831
DTEND;VALUE=DATE:20260912
DTSTAMP:20260423T083702
CREATED:20251106T162413Z
LAST-MODIFIED:20251106T162413Z
UID:1192-1788134400-1789171199@fsgbb.gernzeit.de
SUMMARY:Sommerferien – geöffnet von 8.00 Uhr – 16.30 Uhr
DESCRIPTION:Sommerferien :). Wir haben vom 31.08.2026 bis 11.09.2026 täglich von 8.00 Uhr – 16.30 Uhr für angemeldete Kinder geöffnet.
URL:https://fsgbb.gernzeit.de/event/sommerferien-geoeffnet-von-8-00-uhr-16-30-uhr-4
CATEGORIES:Termine
END:VEVENT
END:VCALENDAR